Workbook
Name TCO_cisco: 'Évaluation'!$E$50
Name TOTAL_cisco: 'Évaluation'!$F$69
Name BASE_cisco: 'Évaluation'!$F$70
Name NORM_cisco: 'Évaluation'!$F$71
Name ST_A_cisco: 'Évaluation'!$F$12
Name ST_B_cisco: 'Évaluation'!$F$21
Name ST_C_cisco: 'Évaluation'!$F$26
Name ST_D_cisco: 'Évaluation'!$F$32
Name ST_E_cisco: 'Évaluation'!$F$40
Name ST_F_cisco: 'Évaluation'!$F$48
Name ST_G_cisco: 'Évaluation'!$F$54
Name ST_H_cisco: 'Évaluation'!$F$61
Name ST_Z_cisco: 'Évaluation'!$F$68
Name TCO_palo: 'Évaluation'!$G$50
Name TOTAL_palo: 'Évaluation'!$H$69
Name BASE_palo: 'Évaluation'!$H$70
Name NORM_palo: 'Évaluation'!$H$71
Name ST_A_palo: 'Évaluation'!$H$12
Name ST_B_palo: 'Évaluation'!$H$21
Name ST_C_palo: 'Évaluation'!$H$26
Name ST_D_palo: 'Évaluation'!$H$32
Name ST_E_palo: 'Évaluation'!$H$40
Name ST_F_palo: 'Évaluation'!$H$48
Name ST_G_palo: 'Évaluation'!$H$54
Name ST_H_palo: 'Évaluation'!$H$61
Name ST_Z_palo: 'Évaluation'!$H$68
Name TCO_fortinet: 'Évaluation'!$I$50
Name TOTAL_fortinet: 'Évaluation'!$J$69
Name BASE_fortinet: 'Évaluation'!$J$70
Name NORM_fortinet: 'Évaluation'!$J$71
Name ST_A_fortinet: 'Évaluation'!$J$12
Name ST_B_fortinet: 'Évaluation'!$J$21
Name ST_C_fortinet: 'Évaluation'!$J$26
Name ST_D_fortinet: 'Évaluation'!$J$32
Name ST_E_fortinet: 'Évaluation'!$J$40
Name ST_F_fortinet: 'Évaluation'!$J$48
Name ST_G_fortinet: 'Évaluation'!$J$54
Name ST_H_fortinet: 'Évaluation'!$J$61
Name ST_Z_fortinet: 'Évaluation'!$J$68
Name TCO_check: 'Évaluation'!$K$50
Name TOTAL_check: 'Évaluation'!$L$69
Name BASE_check: 'Évaluation'!$L$70
Name NORM_check: 'Évaluation'!$L$71
Name ST_A_check: 'Évaluation'!$L$12
Name ST_B_check: 'Évaluation'!$L$21
Name ST_C_check: 'Évaluation'!$L$26
Name ST_D_check: 'Évaluation'!$L$32
Name ST_E_check: 'Évaluation'!$L$40
Name ST_F_check: 'Évaluation'!$L$48
Name ST_G_check: 'Évaluation'!$L$54
Name ST_H_check: 'Évaluation'!$L$61
Name ST_Z_check: 'Évaluation'!$L$68
Name TCO_juniper: 'Évaluation'!$M$50
Name TOTAL_juniper: 'Évaluation'!$N$69
Name BASE_juniper: 'Évaluation'!$N$70
Name NORM_juniper: 'Évaluation'!$N$71
Name ST_A_juniper: 'Évaluation'!$N$12
Name ST_B_juniper: 'Évaluation'!$N$21
Name ST_C_juniper: 'Évaluation'!$N$26
Name ST_D_juniper: 'Évaluation'!$N$32

Sheet Évaluation
A1: STIB — Grille d'évaluation AO Sécurité réseau
A2: FW · Proxy explicite · IPVPN · VPN · management on-premise · 39 critères pondérés en 8 catégories = 100 pts · + 5 critères informatifs en 1 catégorie (Z, poids 0, hors total) · soit 44 lignes / 9 blocs affichés · cellule vide = NR (non instruit), exclue du total renormalisé · grille v2.0 — jeu : vierge
A3: Évaluateur : | D3: Date :
A5: # | B5: ID | C5: Critère | D5: Poids % | E5: Cisco Note (0-5) | F5: Cisco Pondéré | G5: Palo Alto Note (0-5) | H5: Palo Alto Pondéré | I5: Fortinet Note (0-5) | J5: Fortinet Pondéré | K5: Check Point Note (0-5) | L5: Check Point Pondéré | M5: Juniper Note (0-5) | N5: Juniper Pondéré | P5: Cisco poids instruit | Q5: Palo Alto poids instruit | R5: Fortinet poids instruit | S5: Check Point poids instruit | T5: Juniper poids instruit
A6: A — Fonctionnalités techniques | D6: 20%
A7: 1 | B7: A1 | C7: Architecture NGFW — inspection L7, TLS, identité utilisateur | D7: 4 | F7: =IF(E7="",0,E7*D7/5) | H7: =IF(G7="",0,G7*D7/5) | J7: =IF(I7="",0,I7*D7/5) | L7: =IF(K7="",0,K7*D7/5) | N7: =IF(M7="",0,M7*D7/5) | P7: =IF(E7="",0,D7) | Q7: =IF(G7="",0,D7) | R7: =IF(I7="",0,D7) | S7: =IF(K7="",0,D7) | T7: =IF(M7="",0,D7)
A8: 2 | B8: A2 | C8: Proxy web utilisateurs — HTTPS inspection, URL filtering, DLP intégré | D8: 3 | F8: =IF(E8="",0,E8*D8/5) | H8: =IF(G8="",0,G8*D8/5) | J8: =IF(I8="",0,I8*D8/5) | L8: =IF(K8="",0,K8*D8/5) | N8: =IF(M8="",0,M8*D8/5) | P8: =IF(E8="",0,D8) | Q8: =IF(G8="",0,D8) | R8: =IF(I8="",0,D8) | S8: =IF(K8="",0,D8) | T8: =IF(M8="",0,D8)
A9: 3 | B9: A7 | C9: Proxy serveurs explicite — PAC/WPAD, SOCKS v5, authentification, exclusions, chaînage amont | D9: 7 | F9: =IF(E9="",0,E9*D9/5) | H9: =IF(G9="",0,G9*D9/5) | J9: =IF(I9="",0,I9*D9/5) | L9: =IF(K9="",0,K9*D9/5) | N9: =IF(M9="",0,M9*D9/5) | P9: =IF(E9="",0,D9) | Q9: =IF(G9="",0,D9) | R9: =IF(I9="",0,D9) | S9: =IF(K9="",0,D9) | T9: =IF(M9="",0,D9)
A10: 4 | B10: A4 | C10: VPN IPsec / SSL — multi-site, multi-VRF, haute dispo | D10: 4 | F10: =IF(E10="",0,E10*D10/5) | H10: =IF(G10="",0,G10*D10/5) | J10: =IF(I10="",0,I10*D10/5) | L10: =IF(K10="",0,K10*D10/5) | N10: =IF(M10="",0,M10*D10/5) | P10: =IF(E10="",0,D10) | Q10: =IF(G10="",0,D10) | R10: =IF(I10="",0,D10) | S10: =IF(K10="",0,D10) | T10: =IF(M10="",0,D10)
A11: 5 | B11: A6 | C11: IPv6 dual-stack natif sur toutes les composantes | D11: 2 | F11: =IF(E11="",0,E11*D11/5) | H11: =IF(G11="",0,G11*D11/5) | J11: =IF(I11="",0,I11*D11/5) | L11: =IF(K11="",0,K11*D11/5) | N11: =IF(M11="",0,M11*D11/5) | P11: =IF(E11="",0,D11) | Q11: =IF(G11="",0,D11) | R11: =IF(I11="",0,D11) | S11: =IF(K11="",0,D11) | T11: =IF(M11="",0,D11)
A12: Sous-total A (max 20 pts) | D12: #ST-A | F12: =SUM(F7,F8,F9,F10,F11) | H12: =SUM(H7,H8,H9,H10,H11) | J12: =SUM(J7,J8,J9,J10,J11) | L12: =SUM(L7,L8,L9,L10,L11) | N12: =SUM(N7,N8,N9,N10,N11)
A13: B — Sécurité & threat prevention | D13: 12%
A14: 6 | B14: B1 | C14: IPS/IDS — efficacité mesurée : le candidat fournit un rapport de test tiers non sponsorisé portant sur le modèle ET la version firmware proposés, daté de moins de 24 mois ; à défaut, un protocole de mesure reproductible sur maquette | D14: 2 | F14: =IF(E14="",0,E14*D14/5) | H14: =IF(G14="",0,G14*D14/5) | J14: =IF(I14="",0,I14*D14/5) | L14: =IF(K14="",0,K14*D14/5) | N14: =IF(M14="",0,M14*D14/5) | P14: =IF(E14="",0,D14) | Q14: =IF(G14="",0,D14) | R14: =IF(I14="",0,D14) | S14: =IF(K14="",0,D14) | T14: =IF(M14="",0,D14)
A15: 7 | B15: B2 | C15: Sandboxing / analyse comportementale fichiers, URL, emails | D15: 2 | F15: =IF(E15="",0,E15*D15/5) | H15: =IF(G15="",0,G15*D15/5) | J15: =IF(I15="",0,I15*D15/5) | L15: =IF(K15="",0,K15*D15/5) | N15: =IF(M15="",0,M15*D15/5) | P15: =IF(E15="",0,D15) | Q15: =IF(G15="",0,D15) | R15: =IF(I15="",0,D15) | S15: =IF(K15="",0,D15) | T15: =IF(M15="",0,D15)
A16: 8 | B16: B3 | C16: Threat intelligence intégrée — fréquence et qualité des mises à jour | D16: 2 | F16: =IF(E16="",0,E16*D16/5) | H16: =IF(G16="",0,G16*D16/5) | J16: =IF(I16="",0,I16*D16/5) | L16: =IF(K16="",0,K16*D16/5) | N16: =IF(M16="",0,M16*D16/5) | P16: =IF(E16="",0,D16) | Q16: =IF(G16="",0,D16) | R16: =IF(I16="",0,D16) | S16: =IF(K16="",0,D16) | T16: =IF(M16="",0,D16)
A17: 9 | B17: B4 | C17: Micro-segmentation & posture endpoint — déployable on-premise | D17: 2 | F17: =IF(E17="",0,E17*D17/5) | H17: =IF(G17="",0,G17*D17/5) | J17: =IF(I17="",0,I17*D17/5) | L17: =IF(K17="",0,K17*D17/5) | N17: =IF(M17="",0,M17*D17/5) | P17: =IF(E17="",0,D17) | Q17: =IF(G17="",0,D17) | R17: =IF(I17="",0,D17) | S17: =IF(K17="",0,D17) | T17: =IF(M17="",0,D17)
A18: 10 | B18: B5 | C18: DNS Security — filtrage, protection exfiltration DNS | D18: 1 | F18: =IF(E18="",0,E18*D18/5) | H18: =IF(G18="",0,G18*D18/5) | J18: =IF(I18="",0,I18*D18/5) | L18: =IF(K18="",0,K18*D18/5) | N18: =IF(M18="",0,M18*D18/5) | P18: =IF(E18="",0,D18) | Q18: =IF(G18="",0,D18) | R18: =IF(I18="",0,D18) | S18: =IF(K18="",0,D18) | T18: =IF(M18="",0,D18)
A19: 11 | B19: B6 | C19: Chiffrement & gestion PKI — certificats, rotation, support HSM | D19: 1 | F19: =IF(E19="",0,E19*D19/5) | H19: =IF(G19="",0,G19*D19/5) | J19: =IF(I19="",0,I19*D19/5) | L19: =IF(K19="",0,K19*D19/5) | N19: =IF(M19="",0,M19*D19/5) | P19: =IF(E19="",0,D19) | Q19: =IF(G19="",0,D19) | R19: =IF(I19="",0,D19) | S19: =IF(K19="",0,D19) | T19: =IF(M19="",0,D19)
A20: 12 | B20: B7 | C20: Vulnérabilités — nombre de CVE/an, délai de patch, score CVSS moyen | D20: 2 | F20: =IF(E20="",0,E20*D20/5) | H20: =IF(G20="",0,G20*D20/5) | J20: =IF(I20="",0,I20*D20/5) | L20: =IF(K20="",0,K20*D20/5) | N20: =IF(M20="",0,M20*D20/5) | P20: =IF(E20="",0,D20) | Q20: =IF(G20="",0,D20) | R20: =IF(I20="",0,D20) | S20: =IF(K20="",0,D20) | T20: =IF(M20="",0,D20)
A21: Sous-total B (max 12 pts) | D21: #ST-B | F21: =SUM(F14,F15,F16,F17,F18,F19,F20) | H21: =SUM(H14,H15,H16,H17,H18,H19,H20) | J21: =SUM(J14,J15,J16,J17,J18,J19,J20) | L21: =SUM(L14,L15,L16,L17,L18,L19,L20) | N21: =SUM(N14,N15,N16,N17,N18,N19,N20)
A22: C — Conformité & gouvernance | D22: 4%
A23: 13 | B23: C1 | C23: Conformité NIS2 — détection, reporting incidents, audit trail | D23: 2 | F23: =IF(E23="",0,E23*D23/5) | H23: =IF(G23="",0,G23*D23/5) | J23: =IF(I23="",0,I23*D23/5) | L23: =IF(K23="",0,K23*D23/5) | N23: =IF(M23="",0,M23*D23/5) | P23: =IF(E23="",0,D23) | Q23: =IF(G23="",0,D23) | R23: =IF(I23="",0,D23) | S23: =IF(K23="",0,D23) | T23: =IF(M23="",0,D23)
A24: 14 | B24: C4 | C24: RGPD — data residency EU, localisation des données | D24: 1 | F24: =IF(E24="",0,E24*D24/5) | H24: =IF(G24="",0,G24*D24/5) | J24: =IF(I24="",0,I24*D24/5) | L24: =IF(K24="",0,K24*D24/5) | N24: =IF(M24="",0,M24*D24/5) | P24: =IF(E24="",0,D24) | Q24: =IF(G24="",0,D24) | R24: =IF(I24="",0,D24) | S24: =IF(K24="",0,D24) | T24: =IF(M24="",0,D24)
A25: 15 | B25: C5 | C25: Certifications produit — Common Criteria, FIPS 140-2, ANSSI | D25: 1 | F25: =IF(E25="",0,E25*D25/5) | H25: =IF(G25="",0,G25*D25/5) | J25: =IF(I25="",0,I25*D25/5) | L25: =IF(K25="",0,K25*D25/5) | N25: =IF(M25="",0,M25*D25/5) | P25: =IF(E25="",0,D25) | Q25: =IF(G25="",0,D25) | R25: =IF(I25="",0,D25) | S25: =IF(K25="",0,D25) | T25: =IF(M25="",0,D25)
A26: Sous-total C (max 4 pts) | D26: #ST-C | F26: =SUM(F23,F24,F25) | H26: =SUM(H23,H24,H25) | J26: =SUM(J23,J24,J25) | L26: =SUM(L23,L24,L25) | N26: =SUM(N23,N24,N25)
A27: D — Performance & scalabilité | D27: 10%
A28: 16 | B28: D1 | C28: Capacité en sessions déchiffrées concurrentes et en nouvelles sessions SSL par seconde — IPS et contrôle applicatif actifs, tenue de charge sur un seul nœud du cluster, sur le modèle exactement proposé (c'est cette grandeur qui porte le coût du déchiffrement, pas le débit) | D28: 5 | F28: =IF(E28="",0,E28*D28/5) | H28: =IF(G28="",0,G28*D28/5) | J28: =IF(I28="",0,I28*D28/5) | L28: =IF(K28="",0,K28*D28/5) | N28: =IF(M28="",0,M28*D28/5) | P28: =IF(E28="",0,D28) | Q28: =IF(G28="",0,D28) | R28: =IF(I28="",0,D28) | S28: =IF(K28="",0,D28) | T28: =IF(M28="",0,D28)
A29: 17 | B29: D2 | C29: Sessions simultanées et nouvelles connexions par seconde HORS déchiffrement — capacité brute du plan de données ; le facteur de dégradation sous inspection SSL relève de D1, ne pas le compter deux fois | D29: 2 | F29: =IF(E29="",0,E29*D29/5) | H29: =IF(G29="",0,G29*D29/5) | J29: =IF(I29="",0,I29*D29/5) | L29: =IF(K29="",0,K29*D29/5) | N29: =IF(M29="",0,M29*D29/5) | P29: =IF(E29="",0,D29) | Q29: =IF(G29="",0,D29) | R29: =IF(I29="",0,D29) | S29: =IF(K29="",0,D29) | T29: =IF(M29="",0,D29)
A30: 18 | B30: D3 | C30: Latence plan de contrôle — temps de commit et de convergence de politique, mesurés sur maquette (aucun éditeur ne publie la donnée) | D30: 2 | F30: =IF(E30="",0,E30*D30/5) | H30: =IF(G30="",0,G30*D30/5) | J30: =IF(I30="",0,I30*D30/5) | L30: =IF(K30="",0,K30*D30/5) | N30: =IF(M30="",0,M30*D30/5) | P30: =IF(E30="",0,D30) | Q30: =IF(G30="",0,D30) | R30: =IF(I30="",0,D30) | S30: =IF(K30="",0,D30) | T30: =IF(M30="",0,D30)
A31: 19 | B31: D4 | C31: Scalabilité horizontale / clustering actif-actif | D31: 1 | F31: =IF(E31="",0,E31*D31/5) | H31: =IF(G31="",0,G31*D31/5) | J31: =IF(I31="",0,I31*D31/5) | L31: =IF(K31="",0,K31*D31/5) | N31: =IF(M31="",0,M31*D31/5) | P31: =IF(E31="",0,D31) | Q31: =IF(G31="",0,D31) | R31: =IF(I31="",0,D31) | S31: =IF(K31="",0,D31) | T31: =IF(M31="",0,D31)
A32: Sous-total D (max 10 pts) | D32: #ST-D | F32: =SUM(F28,F29,F30,F31) | H32: =SUM(H28,H29,H30,H31) | J32: =SUM(J28,J29,J30,J31) | L32: =SUM(L28,L29,L30,L31) | N32: =SUM(N28,N29,N30,N31)
A33: E — Gestion, exploitation & intégration | D33: 12%
A34: 20 | B34: E1 | C34: Management centralisé — single pane of glass, multi-tenant | D34: 3 | F34: =IF(E34="",0,E34*D34/5) | H34: =IF(G34="",0,G34*D34/5) | J34: =IF(I34="",0,I34*D34/5) | L34: =IF(K34="",0,K34*D34/5) | N34: =IF(M34="",0,M34*D34/5) | P34: =IF(E34="",0,D34) | Q34: =IF(G34="",0,D34) | R34: =IF(I34="",0,D34) | S34: =IF(K34="",0,D34) | T34: =IF(M34="",0,D34)
A35: 21 | B35: E6 | C35: Management on-premise autonome — console isolée d'Internet, licences et activation hors ligne, mises à jour importables manuellement | D35: 4 | F35: =IF(E35="",0,E35*D35/5) | H35: =IF(G35="",0,G35*D35/5) | J35: =IF(I35="",0,I35*D35/5) | L35: =IF(K35="",0,K35*D35/5) | N35: =IF(M35="",0,M35*D35/5) | P35: =IF(E35="",0,D35) | Q35: =IF(G35="",0,D35) | R35: =IF(I35="",0,D35) | S35: =IF(K35="",0,D35) | T35: =IF(M35="",0,D35)
A36: 22 | B36: E2 | C36: Automation — API REST, Ansible, Terraform, CI/CD (maturité & doc) | D36: 2 | F36: =IF(E36="",0,E36*D36/5) | H36: =IF(G36="",0,G36*D36/5) | J36: =IF(I36="",0,I36*D36/5) | L36: =IF(K36="",0,K36*D36/5) | N36: =IF(M36="",0,M36*D36/5) | P36: =IF(E36="",0,D36) | Q36: =IF(G36="",0,D36) | R36: =IF(I36="",0,D36) | S36: =IF(K36="",0,D36) | T36: =IF(M36="",0,D36)
A37: 23 | B37: E3 | C37: Visibilité réseau — dashboards, flow analysis, troubleshooting intégré | D37: 1 | F37: =IF(E37="",0,E37*D37/5) | H37: =IF(G37="",0,G37*D37/5) | J37: =IF(I37="",0,I37*D37/5) | L37: =IF(K37="",0,K37*D37/5) | N37: =IF(M37="",0,M37*D37/5) | P37: =IF(E37="",0,D37) | Q37: =IF(G37="",0,D37) | R37: =IF(I37="",0,D37) | S37: =IF(K37="",0,D37) | T37: =IF(M37="",0,D37)
A38: 24 | B38: E4 | C38: Intégration annuaire — AD / Entra ID, SAML/OIDC, MFA | D38: 1 | F38: =IF(E38="",0,E38*D38/5) | H38: =IF(G38="",0,G38*D38/5) | J38: =IF(I38="",0,I38*D38/5) | L38: =IF(K38="",0,K38*D38/5) | N38: =IF(M38="",0,M38*D38/5) | P38: =IF(E38="",0,D38) | Q38: =IF(G38="",0,D38) | R38: =IF(I38="",0,D38) | S38: =IF(K38="",0,D38) | T38: =IF(M38="",0,D38)
A39: 25 | B39: E5 | C39: Accessibilité de la console d'administration — ACR daté, conformité EN 301 549 / WCAG 2.2 AA | D39: 1 | F39: =IF(E39="",0,E39*D39/5) | H39: =IF(G39="",0,G39*D39/5) | J39: =IF(I39="",0,I39*D39/5) | L39: =IF(K39="",0,K39*D39/5) | N39: =IF(M39="",0,M39*D39/5) | P39: =IF(E39="",0,D39) | Q39: =IF(G39="",0,D39) | R39: =IF(I39="",0,D39) | S39: =IF(K39="",0,D39) | T39: =IF(M39="",0,D39)
A40: Sous-total E (max 12 pts) | D40: #ST-E | F40: =SUM(F34,F35,F36,F37,F38,F39) | H40: =SUM(H34,H35,H36,H37,H38,H39) | J40: =SUM(J34,J35,J36,J37,J38,J39) | L40: =SUM(L34,L35,L36,L37,L38,L39) | N40: =SUM(N34,N35,N36,N37,N38,N39)
A41: F — Support, SLA & continuité | D41: 12%
...

Sheet Résumé
A1: STIB — AO Sécurité réseau · Résumé & Classement
A2: =Évaluation!B3
A4: Scores par catégorie
A5: Catégorie | B5: Max pts | C5: Cisco | D5: / max | E5: Palo Alto | F5: / max | G5: Fortinet | H5: / max | I5: Check Point | J5: / max | K5: Juniper | L5: / max
A6: A — Fonctionnalités techniques | B6: 20 | C6: =Évaluation!F12 | D6: =(Évaluation!F12)/(20)*100 | E6: =Évaluation!H12 | F6: =(Évaluation!H12)/(20)*100 | G6: =Évaluation!J12 | H6: =(Évaluation!J12)/(20)*100 | I6: =Évaluation!L12 | J6: =(Évaluation!L12)/(20)*100 | K6: =Évaluation!N12 | L6: =(Évaluation!N12)/(20)*100
A7: B — Sécurité & threat prevention | B7: 12 | C7: =Évaluation!F21 | D7: =(Évaluation!F21)/(12)*100 | E7: =Évaluation!H21 | F7: =(Évaluation!H21)/(12)*100 | G7: =Évaluation!J21 | H7: =(Évaluation!J21)/(12)*100 | I7: =Évaluation!L21 | J7: =(Évaluation!L21)/(12)*100 | K7: =Évaluation!N21 | L7: =(Évaluation!N21)/(12)*100
A8: C — Conformité & gouvernance | B8: 4 | C8: =Évaluation!F26 | D8: =(Évaluation!F26)/(4)*100 | E8: =Évaluation!H26 | F8: =(Évaluation!H26)/(4)*100 | G8: =Évaluation!J26 | H8: =(Évaluation!J26)/(4)*100 | I8: =Évaluation!L26 | J8: =(Évaluation!L26)/(4)*100 | K8: =Évaluation!N26 | L8: =(Évaluation!N26)/(4)*100
A9: D — Performance & scalabilité | B9: 10 | C9: =Évaluation!F32 | D9: =(Évaluation!F32)/(10)*100 | E9: =Évaluation!H32 | F9: =(Évaluation!H32)/(10)*100 | G9: =Évaluation!J32 | H9: =(Évaluation!J32)/(10)*100 | I9: =Évaluation!L32 | J9: =(Évaluation!L32)/(10)*100 | K9: =Évaluation!N32 | L9: =(Évaluation!N32)/(10)*100
A10: E — Gestion, exploitation & intégration | B10: 12 | C10: =Évaluation!F40 | D10: =(Évaluation!F40)/(12)*100 | E10: =Évaluation!H40 | F10: =(Évaluation!H40)/(12)*100 | G10: =Évaluation!J40 | H10: =(Évaluation!J40)/(12)*100 | I10: =Évaluation!L40 | J10: =(Évaluation!L40)/(12)*100 | K10: =Évaluation!N40 | L10: =(Évaluation!N40)/(12)*100
A11: F — Support, SLA & continuité | B11: 12 | C11: =Évaluation!F48 | D11: =(Évaluation!F48)/(12)*100 | E11: =Évaluation!H48 | F11: =(Évaluation!H48)/(12)*100 | G11: =Évaluation!J48 | H11: =(Évaluation!J48)/(12)*100 | I11: =Évaluation!L48 | J11: =(Évaluation!L48)/(12)*100 | K11: =Évaluation!N48 | L11: =(Évaluation!N48)/(12)*100
A12: G — Financier & TCO | B12: 20 | C12: =Évaluation!F54 | D12: =(Évaluation!F54)/(20)*100 | E12: =Évaluation!H54 | F12: =(Évaluation!H54)/(20)*100 | G12: =Évaluation!J54 | H12: =(Évaluation!J54)/(20)*100 | I12: =Évaluation!L54 | J12: =(Évaluation!L54)/(20)*100 | K12: =Évaluation!N54 | L12: =(Évaluation!N54)/(20)*100
A13: H — Résilience & continuité d'exploitation | B13: 10 | C13: =Évaluation!F61 | D13: =(Évaluation!F61)/(10)*100 | E13: =Évaluation!H61 | F13: =(Évaluation!H61)/(10)*100 | G13: =Évaluation!J61 | H13: =(Évaluation!J61)/(10)*100 | I13: =Évaluation!L61 | J13: =(Évaluation!L61)/(10)*100 | K13: =Évaluation!N61 | L13: =(Évaluation!N61)/(10)*100
A14: Z — Hors périmètre — informatif, non pondéré | B14: 0 | C14: =Évaluation!F68 | D14: — | E14: =Évaluation!H68 | F14: — | G14: =Évaluation!J68 | H14: — | I14: =Évaluation!L68 | J14: — | K14: =Évaluation!N68 | L14: —
A16: TOTAL GÉNÉRAL (/ 100 pts) | C16: =Évaluation!F69 | E16: =Évaluation!H69 | G16: =Évaluation!J69 | I16: =Évaluation!L69 | K16: =Évaluation!N69
A17: Base instruite (pts notés) | C17: =Évaluation!F70 | E17: =Évaluation!H70 | G17: =Évaluation!J70 | I17: =Évaluation!L70 | K17: =Évaluation!N70
A18: TOTAL RENORMALISÉ (/ 100) | C18: =Évaluation!F71 | E18: =Évaluation!H71 | G18: =Évaluation!J71 | I18: =Évaluation!L71 | K18: =Évaluation!N71
A20: Classement automatique (calculé)
A21: Rang | B21: Vendeur | C21: Score total | D21: % du max
A22: 1 | B22: =INDEX({"Cisco","Palo Alto","Fortinet","Check Point","Juniper"},MATCH(LARGE({Évaluation!F69,Évaluation!H69,Évaluation!J69,Évaluation!L69,Évaluation!N69},1),{Évaluation!F69,Évaluation!H69,Évaluation!J69,Évaluation!L69,Évaluation!N69},0)) | C22: =LARGE({Évaluation!F69,Évaluation!H69,Évaluation!J69,Évaluation!L69,Évaluation!N69},1) | D22: =C22/100*100
A23: 2 | B23: =INDEX({"Cisco","Palo Alto","Fortinet","Check Point","Juniper"},MATCH(LARGE({Évaluation!F69,Évaluation!H69,Évaluation!J69,Évaluation!L69,Évaluation!N69},2),{Évaluation!F69,Évaluation!H69,Évaluation!J69,Évaluation!L69,Évaluation!N69},0)) | C23: =LARGE({Évaluation!F69,Évaluation!H69,Évaluation!J69,Évaluation!L69,Évaluation!N69},2) | D23: =C23/100*100
A24: 3 | B24: =INDEX({"Cisco","Palo Alto","Fortinet","Check Point","Juniper"},MATCH(LARGE({Évaluation!F69,Évaluation!H69,Évaluation!J69,Évaluation!L69,Évaluation!N69},3),{Évaluation!F69,Évaluation!H69,Évaluation!J69,Évaluation!L69,Évaluation!N69},0)) | C24: =LARGE({Évaluation!F69,Évaluation!H69,Évaluation!J69,Évaluation!L69,Évaluation!N69},3) | D24: =C24/100*100
A25: 4 | B25: =INDEX({"Cisco","Palo Alto","Fortinet","Check Point","Juniper"},MATCH(LARGE({Évaluation!F69,Évaluation!H69,Évaluation!J69,Évaluation!L69,Évaluation!N69},4),{Évaluation!F69,Évaluation!H69,Évaluation!J69,Évaluation!L69,Évaluation!N69},0)) | C25: =LARGE({Évaluation!F69,Évaluation!H69,Évaluation!J69,Évaluation!L69,Évaluation!N69},4) | D25: =C25/100*100
A26: 5 | B26: =INDEX({"Cisco","Palo Alto","Fortinet","Check Point","Juniper"},MATCH(LARGE({Évaluation!F69,Évaluation!H69,Évaluation!J69,Évaluation!L69,Évaluation!N69},5),{Évaluation!F69,Évaluation!H69,Évaluation!J69,Évaluation!L69,Évaluation!N69},0)) | C26: =LARGE({Évaluation!F69,Évaluation!H69,Évaluation!J69,Évaluation!L69,Évaluation!N69},5) | D26: =C26/100*100
